BEGIN:VCALENDAR
VERSION:2.0
PRODID:icalendar-ruby
CALSCALE:GREGORIAN
METHOD:PUBLISH
BEGIN:VEVENT
DTSTAMP:20260423T122923Z
UID:5-408177@breakthroughchurch.tithelysetup2.com
DTSTART:20260614T170000Z
DTEND:20260614T180000Z
CLASS:PUBLIC
CREATED:20260422T092941
DESCRIPTION:Sunday Worship
LAST-MODIFIED:20260422T092941
LOCATION:
SUMMARY:Sunday Worship
URL;VALUE=URI:https://breakthroughchurch.tithelysetup2.com/events/sunday-wo
 rship/2026-06-14
END:VEVENT
END:VCALENDAR
