BEGIN:VCALENDAR
VERSION:2.0
PRODID:icalendar-ruby
CALSCALE:GREGORIAN
METHOD:PUBLISH
BEGIN:VEVENT
DTSTAMP:20260423T191214Z
UID:9-408214@breakthroughchurch.tithelysetup2.com
DTSTART:20260712T163000Z
DTEND:20260712T180000Z
CLASS:PUBLIC
CREATED:20260423T111054
DESCRIPTION:Join us every Sunday at 10:30 as we gather to worship the One w
 ho deserves it all. It’s a time to come together in faith\, lift up His 
 name\, and be refreshed in His presence. Bring the whole family—there’
 s something for everyone as we dive into God’s Word and grow together.
LAST-MODIFIED:20260423T111054
LOCATION:Leroy Elementary
SUMMARY:Sunday Worship
URL;VALUE=URI:https://breakthroughchurch.tithelysetup2.com/events/sunday-wo
 rship/2026-07-12
END:VEVENT
END:VCALENDAR
